BEGIN:VCALENDAR
VERSION:2.0
PRODID:-//Pfarrei Galgenen//NONSGML kigkonsult.se iCalcreator 2.16.12//
METHOD:PUBLISH
X-MS-OLK-FORCEINSPECTOROPEN:TRUE
BEGIN:VEVENT
UID:20260420T110952CEST-1161V8JjBB@Pfarrei Galgenen
DTSTAMP:20260420T090952Z
DESCRIPTION:Musikalisch begleitet von Stefan Kessler am Akkordeon 
DTSTART:20190502T193000
DTEND:20190502T200000
ORGANIZER:MAILTO:Pfarrei Galgenen <sekretariat@kg-galgenen.ch>
SUMMARY:Maiandacht in der Jostenkapelle
END:VEVENT
END:VCALENDAR
