BEGIN:VCALENDAR
VERSION:2.0
PRODID:-//Pfarrei Galgenen//NONSGML kigkonsult.se iCalcreator 2.16.12//
METHOD:PUBLISH
X-MS-OLK-FORCEINSPECTOROPEN:TRUE
BEGIN:VEVENT
UID:20260420T142227CEST-3589lJunrS@Pfarrei Galgenen
DTSTAMP:20260420T122227Z
DESCRIPTION:Diese Andacht wird musikalisch von Stefan Kessler am Akkordeon 
 begleitet.
DTSTART:20200528T193000
DTEND:20200528T200000
ORGANIZER:MAILTO:Pfarrei Galgenen <sekretariat@kg-galgenen.ch>
SUMMARY:Maiandacht in der Pfarrkirche St. Martin 
END:VEVENT
END:VCALENDAR
