BEGIN:VCALENDAR
VERSION:2.0
PRODID:-//Pfarrei Galgenen//NONSGML kigkonsult.se iCalcreator 2.16.12//
METHOD:PUBLISH
X-MS-OLK-FORCEINSPECTOROPEN:TRUE
BEGIN:VEVENT
UID:20260420T111249CEST-9188Kg1J5z@Pfarrei Galgenen
DTSTAMP:20260420T091249Z
DESCRIPTION:Das Thema der Kleinkinderfeier ist 'Familie'.\nAlle Familien mi
 t Kindern sind dazu herzlich eingeladen. \nDie Feier wird Kindergerecht ge
 staltet.\n 
DTSTART:20190518T170000
DTEND:20190518T180000
ORGANIZER:MAILTO:Pfarrei Galgenen <sekretariat@kg-galgenen.ch>
SUMMARY:Kleinkinder-Feier in der Pfarrkirche St. Martin
END:VEVENT
END:VCALENDAR
