BEGIN:VCALENDAR
VERSION:2.0
PRODID:-//Pfarrei Galgenen//NONSGML kigkonsult.se iCalcreator 2.16.12//
METHOD:PUBLISH
X-MS-OLK-FORCEINSPECTOROPEN:TRUE
BEGIN:VEVENT
UID:20260420T111208CEST-2545hBcw9a@Pfarrei Galgenen
DTSTAMP:20260420T091208Z
DESCRIPTION:Gottesdienst zur Delegiertenversammlung der Schwyzer Trachtenve
 reinigung\,\nvolkstümlich mitgestaltet von den Märchler Trachtenlüt.
DTSTART:20190519T093000
DTEND:20190519T103000
ORGANIZER:MAILTO:Pfarrei Galgenen <sekretariat@kg-galgenen.ch>
SUMMARY:Gottesdienst mit der Schwyzer Trachtenvereinigung
END:VEVENT
END:VCALENDAR
