BEGIN:VCALENDAR
VERSION:2.0
PRODID:-//Pfarrei Galgenen//NONSGML kigkonsult.se iCalcreator 2.16.12//
METHOD:PUBLISH
X-MS-OLK-FORCEINSPECTOROPEN:TRUE
BEGIN:VEVENT
UID:20260420T142205CEST-4074aUOoxu@Pfarrei Galgenen
DTSTAMP:20260420T122205Z
DESCRIPTION:Gottesdienst in der Pfarrkirche St. Martin 
DTSTART:20200601T093000
DTEND:20200601T103000
ORGANIZER:MAILTO:Pfarrei Galgenen <sekretariat@kg-galgenen.ch>
SUMMARY:Pfingstmontag
END:VEVENT
END:VCALENDAR
