BEGIN:VCALENDAR
VERSION:2.0
PRODID:-//Pfarrei Galgenen//NONSGML kigkonsult.se iCalcreator 2.16.12//
METHOD:PUBLISH
X-MS-OLK-FORCEINSPECTOROPEN:TRUE
BEGIN:VEVENT
UID:20260420T111244CEST-0837xUoUK2@Pfarrei Galgenen
DTSTAMP:20260420T091244Z
DESCRIPTION:Gottesdienst mit Bischof Barthélemy vom Bistum Yagoua \nin Kame
 run\, und dem Hilfswerk ASHIA.\nDer Bischof wird erzählen\, wie unsere Spe
 nde vom 2018 eingesetzt wurde.\nMusikalisch wird der Gottesdienst vom Alph
 orntrio Stockberg begleitet.\n\nIm Anschluss an die Feier serviert die Kir
 chgemeinde Galgenen vor \nder Kirche einen Apero. Bei nassem Wetter findet
  dieser im Martins-Träff statt.
DTSTART:20190616T093000
DTEND:20190616T103000
ORGANIZER:MAILTO:Pfarrei Galgenen <sekretariat@kg-galgenen.ch>
SUMMARY:Dreifaltigkeitssonntag
END:VEVENT
END:VCALENDAR
