BEGIN:VCALENDAR
VERSION:2.0
PRODID:-//Pfarrei Galgenen//NONSGML kigkonsult.se iCalcreator 2.16.12//
METHOD:PUBLISH
X-MS-OLK-FORCEINSPECTOROPEN:TRUE
BEGIN:VEVENT
UID:20260420T111425CEST-2534DaSUfv@Pfarrei Galgenen
DTSTAMP:20260420T091425Z
DESCRIPTION:Festgottesdienst in der Jostenkapelle\, mitgestaltet von\nden d
 iesjährigen Erstkommunikanten.
DTSTART:20190620T093000
DTEND:20190620T103000
ORGANIZER:MAILTO:Pfarrei Galgenen <sekretariat@kg-galgenen.ch>
SUMMARY:Fronleichnam in der Jostenkapelle 
END:VEVENT
END:VCALENDAR
