BEGIN:VCALENDAR
VERSION:2.0
PRODID:-//Pfarrei Galgenen//NONSGML kigkonsult.se iCalcreator 2.16.12//
METHOD:PUBLISH
X-MS-OLK-FORCEINSPECTOROPEN:TRUE
BEGIN:VEVENT
UID:20260420T111425CEST-3726OCX0ZF@Pfarrei Galgenen
DTSTAMP:20260420T091425Z
DESCRIPTION:Firmung der 6. Klassen aus Galgenen mit Peter Bürcher\, apostol
 ischen Administrator aus Chur.\nDer Apero für alle Kirchenbesucher findet 
 vor dem Festgottesdienst statt.\nDieser wird musikalisch vom Musikverein G
 algenen umrahmt.
DTSTART:20190622T170000
DTEND:20190622T180000
ORGANIZER:MAILTO:Pfarrei Galgenen <sekretariat@kg-galgenen.ch>
SUMMARY:Firmung mit Peter Bürcher 
END:VEVENT
END:VCALENDAR
