BEGIN:VCALENDAR
VERSION:2.0
PRODID:-//Pfarrei Galgenen//NONSGML kigkonsult.se iCalcreator 2.16.12//
METHOD:PUBLISH
X-MS-OLK-FORCEINSPECTOROPEN:TRUE
BEGIN:VEVENT
UID:20260422T111548CEST-1947e9XvAr@Pfarrei Galgenen
DTSTAMP:20260422T091548Z
DESCRIPTION:Ökumenischer Gottesdienst im Kirchgemeindehaus in Lachen SZ\, g
 estaltet\nvom reformierten Pfarrer Ralf Zimmer und unserem Bruder Patrik S
 chäfli.\nEinen musikalischen Leckerbissen wird sicher die gemeinsame musik
 alische\nBegleitung des ref. Kirchenchors March und den Kirchenchor Galgen
 en.\nIm Anschluss an die Feier wird ein Imbiss angeboten.
DTSTART:20190630T100000
DTEND:20190630T110000
ORGANIZER:MAILTO:Pfarrei Galgenen <sekretariat@kg-galgenen.ch>
SUMMARY:Ökumenischer Gottesdienst in Lachen
END:VEVENT
END:VCALENDAR
