BEGIN:VCALENDAR
VERSION:2.0
PRODID:-//Pfarrei Galgenen//NONSGML kigkonsult.se iCalcreator 2.16.12//
METHOD:PUBLISH
X-MS-OLK-FORCEINSPECTOROPEN:TRUE
BEGIN:VEVENT
UID:20260420T111056CEST-775655oH5v@Pfarrei Galgenen
DTSTAMP:20260420T091056Z
DESCRIPTION:Der Gottesdienst um 09.30 Uhr entfällt.
DTSTART:20190622T090000
DTEND:20190622T100000
ORGANIZER:MAILTO:Pfarrei Galgenen <sekretariat@kg-galgenen.ch>
SUMMARY:Der 09.30 Uhr Gottesdienst entfällt !
END:VEVENT
END:VCALENDAR
