BEGIN:VCALENDAR
VERSION:2.0
PRODID:-//Pfarrei Galgenen//NONSGML kigkonsult.se iCalcreator 2.16.12//
METHOD:PUBLISH
X-MS-OLK-FORCEINSPECTOROPEN:TRUE
BEGIN:VEVENT
UID:20260420T105430CEST-7098FCilvs@Pfarrei Galgenen
DTSTAMP:20260420T085430Z
DESCRIPTION:Im Tannligarten ob Galgenen feiert die KAB einen Familiengottes
 dienst.\nUm 08.00 Uhr gibt das Glockenzeichen die Durführung im Tannligart
 en bekannt\,\nsowie telefonisch Toni Diethelm (N: 078 699 24 97). Er nimmt
  auch Abholungswünsche entgegen.\nBei Regenwetter findet der Gottesdienst 
 im gleichen Rahmen in der \nPfarrkirche um 09.30 Uhr statt.\n 
DTSTART:20190721T103000
DTEND:20190721T113000
ORGANIZER:MAILTO:Pfarrei Galgenen <sekretariat@kg-galgenen.ch>
SUMMARY:Familiengottesdienst im Tannligarten
END:VEVENT
END:VCALENDAR
