BEGIN:VCALENDAR
VERSION:2.0
PRODID:-//Pfarrei Galgenen//NONSGML kigkonsult.se iCalcreator 2.16.12//
METHOD:PUBLISH
X-MS-OLK-FORCEINSPECTOROPEN:TRUE
BEGIN:VEVENT
UID:20260420T111417CEST-9738tkevnH@Pfarrei Galgenen
DTSTAMP:20260420T091417Z
DESCRIPTION:Der Grabenegg-Gottesdienst findet beim Grabeneggkreuz statt. Mu
 sikalische Umrahmung\nvom Alphorntrio Märchlergruess und dem Jodelchörli S
 unnähalb Hirzel.\nDas Glockenzeichen um 08.00 Uhr wird die Durchführung be
 im Kreuz bekannt geben.\nEbenfalls gibt Adelbert Hüppin (N: 079 902 90 37)
  Auskunft.\nBei Regenwetter findet der Gottesdienst im gleichen Rahmen in 
 der Pfarrkirche\,\num 09.30 Uhr statt.\n 
DTSTART:20190818T103000
DTEND:20190818T113000
ORGANIZER:MAILTO:Pfarrei Galgenen <sekretariat@kg-galgenen.ch>
SUMMARY:Grabenegg-Gottesdienst
END:VEVENT
END:VCALENDAR
