BEGIN:VCALENDAR
VERSION:2.0
PRODID:-//Pfarrei Galgenen//NONSGML kigkonsult.se iCalcreator 2.16.12//
METHOD:PUBLISH
X-MS-OLK-FORCEINSPECTOROPEN:TRUE
BEGIN:VEVENT
UID:20260420T114236CEST-6835L47jEO@Pfarrei Galgenen
DTSTAMP:20260420T094236Z
DESCRIPTION:Segensfeier mit den 1. Klassen \nIn diesem Gottesdienst hat es 
 eine betreute Kinderecke für die 'Kleinen'
DTSTART:20190901T093000
DTEND:20190901T103000
ORGANIZER:MAILTO:Pfarrei Galgenen <sekretariat@kg-galgenen.ch>
SUMMARY:Familien-Gottesdienst
END:VEVENT
END:VCALENDAR
