BEGIN:VCALENDAR
VERSION:2.0
PRODID:-//Pfarrei Galgenen//NONSGML kigkonsult.se iCalcreator 2.16.12//
METHOD:PUBLISH
X-MS-OLK-FORCEINSPECTOROPEN:TRUE
BEGIN:VEVENT
UID:20260420T105604CEST-7755gn07Zp@Pfarrei Galgenen
DTSTAMP:20260420T085604Z
DESCRIPTION:In diesem Gottesdienst werden unsere 14 neuen Ministranten feie
 rlich in Ihren Dienst aufgenommen.\nAnschliessend an den Gottesdienst führ
 en die Minstranten im Martins-Träff ein Chiläkafi. Bei einem gemütlichen K
 affee kann noch etwas geplaudert werden.
DTSTART:20190908T093000
DTEND:20190908T103000
ORGANIZER:MAILTO:Pfarrei Galgenen <sekretariat@kg-galgenen.ch>
SUMMARY:Gottesdienst mit der Aufnahme unserer neuen Ministranten
END:VEVENT
END:VCALENDAR
