BEGIN:VCALENDAR
VERSION:2.0
PRODID:-//Pfarrei Galgenen//NONSGML kigkonsult.se iCalcreator 2.16.12//
METHOD:PUBLISH
X-MS-OLK-FORCEINSPECTOROPEN:TRUE
BEGIN:VEVENT
UID:20260420T111039CEST-8408cli7CU@Pfarrei Galgenen
DTSTAMP:20260420T091039Z
DESCRIPTION:Diese Kleinkinderfeier beinhaltet das Thema 'Apfel'.\nDie Feier
  findet jeweils in der Pfarrirche St. Martin statt und lädt alle Kinder ab
  3 Jahren mit ihren Eltern und jüngeren Geschwistern ein\, zum gemeinsamen
  Geschichten hören\, basteln und singen.
DTSTART:20190914T170000
DTEND:20190914T180000
ORGANIZER:MAILTO:Pfarrei Galgenen <sekretariat@kg-galgenen.ch>
SUMMARY:Kleinkinder-Feier in der Pfarrkirche St. Martin
END:VEVENT
END:VCALENDAR
