BEGIN:VCALENDAR
VERSION:2.0
PRODID:-//Pfarrei Galgenen//NONSGML kigkonsult.se iCalcreator 2.16.12//
METHOD:PUBLISH
X-MS-OLK-FORCEINSPECTOROPEN:TRUE
BEGIN:VEVENT
UID:20260420T111245CEST-0602UP9hSa@Pfarrei Galgenen
DTSTAMP:20260420T091245Z
DESCRIPTION:Der Gottesdienst wird musikalisch von den schönen Stimmen unser
 er Kantoren begleitet.
DTSTART:20190915T093000
DTEND:20190915T103000
ORGANIZER:MAILTO:Pfarrei Galgenen <sekretariat@kg-galgenen.ch>
SUMMARY:Eidg. Dank-\, Buss- und Bettag
END:VEVENT
END:VCALENDAR
