BEGIN:VCALENDAR
VERSION:2.0
PRODID:-//Pfarrei Galgenen//NONSGML kigkonsult.se iCalcreator 2.16.12//
METHOD:PUBLISH
X-MS-OLK-FORCEINSPECTOROPEN:TRUE
BEGIN:VEVENT
UID:20260420T111250CEST-69131uvUoe@Pfarrei Galgenen
DTSTAMP:20260420T091250Z
DESCRIPTION:Am 'Siebnermärt' Sonntag feiern wir den Gottesdienst in der Jos
 tenkapelle.
DTSTART:20190922T093000
DTEND:20190922T103000
ORGANIZER:MAILTO:Pfarrei Galgenen <sekretariat@kg-galgenen.ch>
SUMMARY:Gottesdienst in der Jostenkapelle
END:VEVENT
END:VCALENDAR
