BEGIN:VCALENDAR
VERSION:2.0
PRODID:-//Pfarrei Galgenen//NONSGML kigkonsult.se iCalcreator 2.16.12//
METHOD:PUBLISH
X-MS-OLK-FORCEINSPECTOROPEN:TRUE
BEGIN:VEVENT
UID:20260422T111330CEST-9697ViNvbc@Pfarrei Galgenen
DTSTAMP:20260422T091330Z
DESCRIPTION:Der Gottesdienst um 09.30 Uhr entfällt!\n\nUm 14.00 Uhr halten 
 wir einen Festgottesdienst mit anschliessendem Gräberbesuch\, unter der mu
 sikalischen Mitwirkung unserer Kantoren.\n\nNach dem Gräberbesuch wird im 
 Martins-Träff eine „Kafistubä“ geführt\, für ein gemütliches Beisammensein
 .\nDer Erlös geht vollumfänglich an unsere Pfarrkirche.\n
DTSTART:20221009T140000
DTEND:20221009T150000
ORGANIZER:MAILTO:Pfarrei Galgenen <sekretariat@kg-galgenen.ch>
SUMMARY:Chilbi - Sonntag
END:VEVENT
END:VCALENDAR
