BEGIN:VCALENDAR
VERSION:2.0
PRODID:-//Pfarrei Galgenen//NONSGML kigkonsult.se iCalcreator 2.16.12//
METHOD:PUBLISH
X-MS-OLK-FORCEINSPECTOROPEN:TRUE
BEGIN:VEVENT
UID:20260420T111416CEST-7916CzM5tP@Pfarrei Galgenen
DTSTAMP:20260420T091416Z
DESCRIPTION:Der Gottesdienst um 09.30 Uhr entfällt!\n\nUm 14.00 Uhr halten 
 wir einen Festgottesdienst mit anschliessendem Gräberbesuch\, unter der mu
 sikalischen Mitwirkung unseres Kirchenchors.\n\nNach dem Gräberbesuch wird
  im Martins-Träff für alle eine „Kafistubä“ geführt. Der Erlös geht vollum
 fänglich an unsere Pfarrkirche.\n
DTSTART:20191101T140000
DTEND:20191101T150000
ORGANIZER:MAILTO:Pfarrei Galgenen <sekretariat@kg-galgenen.ch>
SUMMARY:Allerheiligen\, Festgottesdienst mit Gräberbesuch 
END:VEVENT
END:VCALENDAR
