BEGIN:VCALENDAR
VERSION:2.0
PRODID:-//Pfarrei Galgenen//NONSGML kigkonsult.se iCalcreator 2.16.12//
METHOD:PUBLISH
X-MS-OLK-FORCEINSPECTOROPEN:TRUE
BEGIN:VEVENT
UID:20260420T111206CEST-9659okt4GU@Pfarrei Galgenen
DTSTAMP:20260420T091206Z
DESCRIPTION:Die Eucharistiefeier  wird von der FMG\, Frauen- und Müttergeme
 inschaft Galgenen mitgestaltet.\n\nDas diesjährige Elisabethenopfer – im G
 edenken an die sozial sehr aktive hl. Elisabeth von Thüringen – nehmen wir
  im Gottesdienst vom Sonntag 17. Nov. auf (und in der Elisabethenmesse der
  Frauengemeinschaft vom 15. Nov.). Es kommt in diesem Jahr der Berufsbildu
 ng für Mädchen und junge Mütter in Uganda zugute. Allfällige Gaben können 
 auch im Pfarrhaus abgegeben werden. Schon jetzt danken wir allen für die U
 nterstützung!\n\nIm Anschluss führt die FMG im Martins-Träff eine Kafistub
 ä.\n
DTSTART:20191115T093000
DTEND:20191115T103000
ORGANIZER:MAILTO:Pfarrei Galgenen <sekretariat@kg-galgenen.ch>
SUMMARY:Elisabethen-Messe 
END:VEVENT
END:VCALENDAR
