BEGIN:VCALENDAR
VERSION:2.0
PRODID:-//Pfarrei Galgenen//NONSGML kigkonsult.se iCalcreator 2.16.12//
METHOD:PUBLISH
X-MS-OLK-FORCEINSPECTOROPEN:TRUE
BEGIN:VEVENT
UID:20260420T111341CEST-38316DTKNb@Pfarrei Galgenen
DTSTAMP:20260420T091341Z
DESCRIPTION:Kleinkinderfeier zum Thema „Bescheidenheit“.\n\nDie Feier finde
 t jeweils in der Pfarrkirche St. Martin statt und lädt alle Kinder ab 3 Ja
 hren mit ihren Eltern und jüngeren Geschwistern ein\, zum gemeinsamen Gesc
 hichten hören\, basteln und singen.\n
DTSTART:20191116T170000
DTEND:20191116T180000
ORGANIZER:MAILTO:Pfarrei Galgenen <sekretariat@kg-galgenen.ch>
SUMMARY:Kleinkinder-Feier in der Pfarrkirche St. Martin
END:VEVENT
END:VCALENDAR
