BEGIN:VCALENDAR
VERSION:2.0
PRODID:-//Pfarrei Galgenen//NONSGML kigkonsult.se iCalcreator 2.16.12//
METHOD:PUBLISH
X-MS-OLK-FORCEINSPECTOROPEN:TRUE
BEGIN:VEVENT
UID:20260420T105625CEST-1396xIEOnv@Pfarrei Galgenen
DTSTAMP:20260420T085625Z
DESCRIPTION:In diesem Familiengottesdienst werden die Firmlinge von 2020 vo
 rgestellt.\n\nAnschliessend führen die Firmlinge gemeinsam mit Iher Katech
 etin Monika Fleischmann\nim Martins-Träff ein „Chiläkafi“. Bei einem Kaffe
 e kann noch gemütlich\netwas geplaudert werden.\n
DTSTART:20191117T093000
DTEND:20191117T103000
ORGANIZER:MAILTO:Pfarrei Galgenen <sekretariat@kg-galgenen.ch>
SUMMARY:Gottesdienst mit den Firmanden
END:VEVENT
END:VCALENDAR
