BEGIN:VCALENDAR
VERSION:2.0
PRODID:-//Pfarrei Galgenen//NONSGML kigkonsult.se iCalcreator 2.16.12//
METHOD:PUBLISH
X-MS-OLK-FORCEINSPECTOROPEN:TRUE
BEGIN:VEVENT
UID:20260420T111340CEST-48213suR3e@Pfarrei Galgenen
DTSTAMP:20260420T091340Z
DESCRIPTION:Es werden die Erstkommunikanten von 2020 vorgestellt.\nIn der K
 irche ist eine betreute Kinderecke für die kleinen Besucher. Im Anschluss 
 an den Gottesdienst\nfürt die Elterngruppe der Kinder im Martins-Träff ein
  'Chiläkafi'. Bei einem Kaffee kann noch gemütlich\netwas geplaudert werde
 n.
DTSTART:20191201T093000
DTEND:20191201T103000
ORGANIZER:MAILTO:Pfarrei Galgenen <sekretariat@kg-galgenen.ch>
SUMMARY:Familiengottesdienst mit den Erstkommunikanten
END:VEVENT
END:VCALENDAR
