BEGIN:VCALENDAR
VERSION:2.0
PRODID:-//Pfarrei Galgenen//NONSGML kigkonsult.se iCalcreator 2.16.12//
METHOD:PUBLISH
X-MS-OLK-FORCEINSPECTOROPEN:TRUE
BEGIN:VEVENT
UID:20260420T111239CEST-1786GitnW5@Pfarrei Galgenen
DTSTAMP:20260420T091239Z
DESCRIPTION:Rorate-Gottesdienst\, mitgestaltet von den 5. und 6. Klassen.\n
 Anschliessend wird im Martins-Träff ein kleines Frühstück angeboten. Für d
 as Frühstück ist eine\nAnmeldung erforderlich. Dies können Sie wie folgt:
 \nPer Telefon:    055 440 13 94\, Montag-Freitag\, 09.00 - 11.30 Uhr (Öffn
 ungszeiten Sekretariat)\nPer Mail:         sekretariat@kg-galgenen.ch \n\n
 Die Eucharistiefeier um 09.30 Uhr entfällt! 
DTSTART:20191211T063000
DTEND:20191211T073000
ORGANIZER:MAILTO:Pfarrei Galgenen <sekretariat@kg-galgenen.ch>
SUMMARY:Rorate Lichtmesse mit den 5. und 6. Klassen
END:VEVENT
END:VCALENDAR
