BEGIN:VCALENDAR
VERSION:2.0
PRODID:-//Pfarrei Galgenen//NONSGML kigkonsult.se iCalcreator 2.16.12//
METHOD:PUBLISH
X-MS-OLK-FORCEINSPECTOROPEN:TRUE
BEGIN:VEVENT
UID:20260420T111250CEST-2667aNFjwm@Pfarrei Galgenen
DTSTAMP:20260420T091250Z
DESCRIPTION:Dieser Gottesdienst wird vom 'Seniorenchor 60+ Ausserschwyz' be
 gleitet.\nDas wird bestimmt ein musikalischer Leckerbissen.\nIm Anschluss 
 an den Gottesdienst wird im Martins-Träff ein Chiläkafi geführt.
DTSTART:20191215T093000
DTEND:20191215T103000
ORGANIZER:MAILTO:Pfarrei Galgenen <sekretariat@kg-galgenen.ch>
SUMMARY:Dritter  Adventssonntag
END:VEVENT
END:VCALENDAR
