BEGIN:VCALENDAR
VERSION:2.0
PRODID:-//Pfarrei Galgenen//NONSGML kigkonsult.se iCalcreator 2.16.12//
METHOD:PUBLISH
X-MS-OLK-FORCEINSPECTOROPEN:TRUE
BEGIN:VEVENT
UID:20260420T111243CEST-3679uAz9aS@Pfarrei Galgenen
DTSTAMP:20260420T091243Z
DESCRIPTION:Wir laden alle Pfarreiangehörigen herzlich ein zum Abholen des 
 Friedenslichtes. Entzündet in Betlehem\, wird es von dort aus über die gan
 ze Welt verbreitet. Am 17. Dezember um 16.45 Uhr kommen wir beim Martins-T
 räff zusammen und machen uns auf den Weg zum Lachner Hafen. Um 18.00 Uhr k
 ommt am Schiffssteg beim Joachim-Raff-Platz das Friedenslicht mit dem Schi
 ff an. Dort entzünden wir die mitgebrachten Laternen und tragen das Licht 
 in unsere Pfarrkirche\, wo wir um ca. 19.00 Uhr eine kurze Feier halten. G
 erne darf man in dieser Zeit eine Kerze anzünden und das Licht nach Hause 
 in die Familie nehmen. Anschliessend eröffnen wir an diesem Abend das Adve
 ntsfenster beim Martins-Träff und laden alle zum gemütlichen Beisammensein
  ein. Die JuBla Galgenen wird uns mit Kuchen und Punsch bewirten. \n\nWir 
 freuen uns auf ein gemütliches\, frohes Erlebnis an diesem Adventsabend.\n
 \nEuer Pfarrei-Team\n\n \n
DTSTART:20191217T164500
DTEND:20191217T200000
ORGANIZER:MAILTO:Pfarrei Galgenen <sekretariat@kg-galgenen.ch>
SUMMARY:Ankuft des Friedenslichtes in Lachen
END:VEVENT
END:VCALENDAR
