BEGIN:VCALENDAR
VERSION:2.0
PRODID:-//Pfarrei Galgenen//NONSGML kigkonsult.se iCalcreator 2.16.12//
METHOD:PUBLISH
X-MS-OLK-FORCEINSPECTOROPEN:TRUE
BEGIN:VEVENT
UID:20260420T105417CEST-8195DzbzFV@Pfarrei Galgenen
DTSTAMP:20260420T085417Z
DESCRIPTION:Die Schüler der 4. Klassen führen in der Pfarrkirche das Krippe
 nspiel auf.\nDie Eucharistiefeier um 09.30 Uhr entfällt.
DTSTART:20191224T170000
DTEND:20191224T180000
ORGANIZER:MAILTO:Pfarrei Galgenen <sekretariat@kg-galgenen.ch>
SUMMARY:Krippenspiel an Heilig Abend
END:VEVENT
END:VCALENDAR
