BEGIN:VCALENDAR
VERSION:2.0
PRODID:-//Pfarrei Galgenen//NONSGML kigkonsult.se iCalcreator 2.16.12//
METHOD:PUBLISH
X-MS-OLK-FORCEINSPECTOROPEN:TRUE
BEGIN:VEVENT
UID:20260420T111237CEST-2279De2utR@Pfarrei Galgenen
DTSTAMP:20260420T091237Z
DESCRIPTION:Die Mitternachtsmesse wird musikalisch vom Kirchenchor Galgenen
  begleitet.\nSie singen Weihnachtslieder.\nDie Eucharistiefeier um 09.30 U
 hr entfällt! 
DTSTART:20191224T223000
DTEND:20191224T233000
ORGANIZER:MAILTO:Pfarrei Galgenen <sekretariat@kg-galgenen.ch>
SUMMARY:Mitternachtsmesse an Heilig Abend
END:VEVENT
END:VCALENDAR
