BEGIN:VCALENDAR
VERSION:2.0
PRODID:-//Pfarrei Galgenen//NONSGML kigkonsult.se iCalcreator 2.16.12//
METHOD:PUBLISH
X-MS-OLK-FORCEINSPECTOROPEN:TRUE
BEGIN:VEVENT
UID:20260420T111056CEST-19254dSCZm@Pfarrei Galgenen
DTSTAMP:20260420T091056Z
DESCRIPTION:Dieser Gottesdienst wird musikalisch von Urban Huber und unsere
 m\nOrganisten Andreas Diethelm begleitet.\n 
DTSTART:20191226T093000
DTEND:20191226T103000
ORGANIZER:MAILTO:Pfarrei Galgenen <sekretariat@kg-galgenen.ch>
SUMMARY:Gottesdienst zum Stephanstag 
END:VEVENT
END:VCALENDAR
