BEGIN:VCALENDAR
VERSION:2.0
PRODID:-//Pfarrei Galgenen//NONSGML kigkonsult.se iCalcreator 2.16.12//
METHOD:PUBLISH
X-MS-OLK-FORCEINSPECTOROPEN:TRUE
BEGIN:VEVENT
UID:20260420T111341CEST-0468LASNfV@Pfarrei Galgenen
DTSTAMP:20260420T091341Z
DESCRIPTION:Dieser Festgottesdienst wird musikalisch von unserem Kirchencho
 r begleitet.\nSie singen Lieder aus der Oberndorfer Stille Nacht Messe von
  H. Klier\n\nDie Eucharistiefeier um 09.30 Uhr entfällt! 
DTSTART:20200101T170000
DTEND:20200101T180000
ORGANIZER:MAILTO:Pfarrei Galgenen <sekretariat@kg-galgenen.ch>
SUMMARY:Neujahr\, Hochfest der Gottesmutter Maria und Weltfriedenstag
END:VEVENT
END:VCALENDAR
