BEGIN:VCALENDAR
VERSION:2.0
PRODID:-//Pfarrei Galgenen//NONSGML kigkonsult.se iCalcreator 2.16.12//
METHOD:PUBLISH
X-MS-OLK-FORCEINSPECTOROPEN:TRUE
BEGIN:VEVENT
UID:20260420T111208CEST-1605zsaH0U@Pfarrei Galgenen
DTSTAMP:20260420T091208Z
DESCRIPTION:In diesem Festgottesdienst wird Wasser und Salz gesegnet.
DTSTART:20200106T093000
DTEND:20200106T103000
ORGANIZER:MAILTO:Pfarrei Galgenen <sekretariat@kg-galgenen.ch>
SUMMARY:Erscheinung des Herrn
END:VEVENT
END:VCALENDAR
