BEGIN:VCALENDAR
VERSION:2.0
PRODID:-//Pfarrei Galgenen//NONSGML kigkonsult.se iCalcreator 2.16.12//
METHOD:PUBLISH
X-MS-OLK-FORCEINSPECTOROPEN:TRUE
BEGIN:VEVENT
UID:20260420T110951CEST-0131M1wZM2@Pfarrei Galgenen
DTSTAMP:20260420T090951Z
DESCRIPTION:Dieser Gottesdienst wird musikalisch umrahmt vom Kinder- und Ju
 gendchor Feusisberg\,\nunter der Leitungvon Adeline Marty.
DTSTART:20200126T093000
DTEND:20200126T103000
ORGANIZER:MAILTO:Pfarrei Galgenen <sekretariat@kg-galgenen.ch>
SUMMARY:Gottesdienst musikalisch begleitet vom Kinder- und Jugendchor Feusi
 sberg 
END:VEVENT
END:VCALENDAR
