BEGIN:VCALENDAR
VERSION:2.0
PRODID:-//Pfarrei Galgenen//NONSGML kigkonsult.se iCalcreator 2.16.12//
METHOD:PUBLISH
X-MS-OLK-FORCEINSPECTOROPEN:TRUE
BEGIN:VEVENT
UID:20260420T111208CEST-5640VAbIpK@Pfarrei Galgenen
DTSTAMP:20260420T091208Z
DESCRIPTION:Jugend-Gottesdienst mit dem Thema 'Light up'. Bitte alle Teilne
 hmer eine Taschenlampe mitnehmen...\nIm Anschluss an den Gottesdienst  im 
 Martins-Träff gemütliches Beisammensein.
DTSTART:20200201T180000
DTEND:20200201T190000
ORGANIZER:MAILTO:Pfarrei Galgenen <sekretariat@kg-galgenen.ch>
SUMMARY:Jugend-Gottesdienst zum Thema 'Light up'
END:VEVENT
END:VCALENDAR
