BEGIN:VCALENDAR
VERSION:2.0
PRODID:-//Pfarrei Galgenen//NONSGML kigkonsult.se iCalcreator 2.16.12//
METHOD:PUBLISH
X-MS-OLK-FORCEINSPECTOROPEN:TRUE
BEGIN:VEVENT
UID:20260420T105402CEST-6650hC1Pwr@Pfarrei Galgenen
DTSTAMP:20260420T085402Z
DESCRIPTION:Lichtmesse mit Kerzensegnung und Erteilung des Blasius Segens.
 \nMusikalisch wird die Feier von den Kantoren begleitet.\n 
DTSTART:20200202T093000
DTEND:20200202T103000
ORGANIZER:MAILTO:Pfarrei Galgenen <sekretariat@kg-galgenen.ch>
SUMMARY:Darstellung des Herrn
END:VEVENT
END:VCALENDAR
