BEGIN:VCALENDAR
VERSION:2.0
PRODID:-//Pfarrei Galgenen//NONSGML kigkonsult.se iCalcreator 2.16.12//
METHOD:PUBLISH
X-MS-OLK-FORCEINSPECTOROPEN:TRUE
BEGIN:VEVENT
UID:20260420T105417CEST-5218VhxDVw@Pfarrei Galgenen
DTSTAMP:20260420T085417Z
DESCRIPTION:Im Gottesdienst werden die mitgebrachten Agathabrote gesegnet.
DTSTART:20200205T093000
DTEND:20200205T103000
ORGANIZER:MAILTO:Pfarrei Galgenen <sekretariat@kg-galgenen.ch>
SUMMARY:Hl. Agatha 
END:VEVENT
END:VCALENDAR
