BEGIN:VCALENDAR
VERSION:2.0
PRODID:-//Pfarrei Galgenen//NONSGML kigkonsult.se iCalcreator 2.16.12//
METHOD:PUBLISH
X-MS-OLK-FORCEINSPECTOROPEN:TRUE
BEGIN:VEVENT
UID:20260420T142335CEST-5175foZ9hu@Pfarrei Galgenen
DTSTAMP:20260420T122335Z
DESCRIPTION:Die Feier findet jeweils in der Pfarrkirche St. Martin statt un
 d lädt alle Kinder ab 3 Jahren mit ihren Eltern\nund jüngeren Geschwistern
  ein\, zum gemeinsamen Geschichten hören\, Basteln und Singen.
DTSTART:20200208T170000
DTEND:20200208T180000
ORGANIZER:MAILTO:Pfarrei Galgenen <sekretariat@kg-galgenen.ch>
SUMMARY:Kleinkinderfeier zum Thema 'Wasser' 
END:VEVENT
END:VCALENDAR
