BEGIN:VCALENDAR
VERSION:2.0
PRODID:-//Pfarrei Galgenen//NONSGML kigkonsult.se iCalcreator 2.16.12//
METHOD:PUBLISH
X-MS-OLK-FORCEINSPECTOROPEN:TRUE
BEGIN:VEVENT
UID:20260420T142226CEST-8743zUva8O@Pfarrei Galgenen
DTSTAMP:20260420T122226Z
DESCRIPTION:Diese Feier wird mitgestaltet von den 5. Klassen und Ihrer Kate
 chetin Monika Fleischmann.\nIm Anschluss an den Gottesdienst laden wir Sie
  herzlich zu einem 'Chiläkafi' im Martins-Träff ein.\nBei einem gemütliche
 n Kaffee kann noch etwas geplaudert werden.
DTSTART:20200216T093000
DTEND:20200216T103000
ORGANIZER:MAILTO:Pfarrei Galgenen <sekretariat@kg-galgenen.ch>
SUMMARY:Familien-Gottesdienst
END:VEVENT
END:VCALENDAR
