BEGIN:VCALENDAR
VERSION:2.0
PRODID:-//Pfarrei Galgenen//NONSGML kigkonsult.se iCalcreator 2.16.12//
METHOD:PUBLISH
X-MS-OLK-FORCEINSPECTOROPEN:TRUE
BEGIN:VEVENT
UID:20260420T142044CEST-0684Xvd1oZ@Pfarrei Galgenen
DTSTAMP:20260420T122044Z
DESCRIPTION:Der Gottesdienst um 09.30 Uhr entfällt.\nIn der Eucharistiefeie
 r um 19.30 Uhr wird geweihte Asche ausgeteilt.\n 
DTSTART:20200226T193000
DTEND:20200226T203000
ORGANIZER:MAILTO:Pfarrei Galgenen <sekretariat@kg-galgenen.ch>
SUMMARY:Aschermittwoch 
END:VEVENT
END:VCALENDAR
