BEGIN:VCALENDAR
VERSION:2.0
PRODID:-//Pfarrei Galgenen//NONSGML kigkonsult.se iCalcreator 2.16.12//
METHOD:PUBLISH
X-MS-OLK-FORCEINSPECTOROPEN:TRUE
BEGIN:VEVENT
UID:20260420T142224CEST-96279Db4z2@Pfarrei Galgenen
DTSTAMP:20260420T122224Z
DESCRIPTION:In diesem Gottesdienst wird die Krankensalbung gespendet.
DTSTART:20200301T093000
DTEND:20200301T103000
ORGANIZER:MAILTO:Pfarrei Galgenen <sekretariat@kg-galgenen.ch>
SUMMARY:Krankensonntag
END:VEVENT
END:VCALENDAR
