BEGIN:VCALENDAR
VERSION:2.0
PRODID:-//Pfarrei Galgenen//NONSGML kigkonsult.se iCalcreator 2.16.12//
METHOD:PUBLISH
X-MS-OLK-FORCEINSPECTOROPEN:TRUE
BEGIN:VEVENT
UID:20260420T142338CEST-4642ZUrOIg@Pfarrei Galgenen
DTSTAMP:20260420T122338Z
DESCRIPTION:Dieser Gottesdienst wird musikalisch begleitet vom Gospelchor W
 ädenswil\,\nunter der Leitung von Adeline Marty.
DTSTART:20200322T093000
DTEND:20200322T103000
ORGANIZER:MAILTO:Pfarrei Galgenen <sekretariat@kg-galgenen.ch>
SUMMARY:Gottesdienst mit dem Gospelchor aus Wädenswil ZH
END:VEVENT
END:VCALENDAR
