BEGIN:VCALENDAR
VERSION:2.0
PRODID:-//Pfarrei Galgenen//NONSGML kigkonsult.se iCalcreator 2.16.12//
METHOD:PUBLISH
X-MS-OLK-FORCEINSPECTOROPEN:TRUE
BEGIN:VEVENT
UID:20260420T142350CEST-3470MGWMuR@Pfarrei Galgenen
DTSTAMP:20260420T122350Z
DESCRIPTION:Wir werden eine Woche gemeinsam Fasten\, und treffen uns jeweil
 s abends um 19.30 Uhr - auf freiwilliger\nBasis - zum Austausch und mediti
 eren. Alle Interessierten sind herzlich eingeladen mitzufasten. \nDetailli
 erte Informationen dazu erhalten Sie im Pfarramt Galgenen bei unserem Seel
 sorge-Team.\n 
DTSTART:20200315T000000
DTEND:20200320T000000
ORGANIZER:MAILTO:Pfarrei Galgenen <sekretariat@kg-galgenen.ch>
SUMMARY:Gemeinsame Fastenwoche
END:VEVENT
END:VCALENDAR
