BEGIN:VCALENDAR
VERSION:2.0
PRODID:-//Pfarrei Galgenen//NONSGML kigkonsult.se iCalcreator 2.16.12//
METHOD:PUBLISH
X-MS-OLK-FORCEINSPECTOROPEN:TRUE
BEGIN:VEVENT
UID:20260420T142154CEST-9655gaKKRh@Pfarrei Galgenen
DTSTAMP:20260420T122154Z
DESCRIPTION:Am Palmsonntag können in der Kirche gesegnete Palmzweige indivi
 duell abgeholt werden.\nBitte entnehmen Sie für den Palmsonntag alle Detai
 ls unter der Rubirk 'Download'.\nBeachten Sie aber: Ältere Personen sollte
 n dazu nicht extra das Haus verlassen! Suchen Sie Unterstützung oder melde
 n Sie sich bei uns!\nBesten Dank.\n
DTSTART:20200405T080000
DTEND:20200405T190000
ORGANIZER:MAILTO:Pfarrei Galgenen <sekretariat@kg-galgenen.ch>
SUMMARY:Palmsonntag 
END:VEVENT
END:VCALENDAR
