BEGIN:VCALENDAR
VERSION:2.0
PRODID:-//Pfarrei Galgenen//NONSGML kigkonsult.se iCalcreator 2.16.12//
METHOD:PUBLISH
X-MS-OLK-FORCEINSPECTOROPEN:TRUE
BEGIN:VEVENT
UID:20260420T142206CEST-5624K61sGv@Pfarrei Galgenen
DTSTAMP:20260420T122206Z
DESCRIPTION:Die geplante Frimung von diesem Samstag wurde abgesagt und \nne
 u auf den Samstag\, 05. September 2020 um 17.00 Uhr festgelegt.\nDas Firms
 akramet wird ehem. Generalvikar Martin Kopp spenden.
DTSTART:20200613T000000
DTEND:20200613T000000
ORGANIZER:MAILTO:Pfarrei Galgenen <sekretariat@kg-galgenen.ch>
SUMMARY:Firmdatum wrid verschoben
END:VEVENT
END:VCALENDAR
