BEGIN:VCALENDAR
VERSION:2.0
PRODID:-//Pfarrei Galgenen//NONSGML kigkonsult.se iCalcreator 2.16.12//
METHOD:PUBLISH
X-MS-OLK-FORCEINSPECTOROPEN:TRUE
BEGIN:VEVENT
UID:20260420T142225CEST-38461uXuJ7@Pfarrei Galgenen
DTSTAMP:20260420T122225Z
DESCRIPTION:In diesem Gottesdienst verabschieden wir Vreni Ziltener.\nIm An
 schluss an den Gottesdienst offeriert die Kirchgemeinde einen Apero.
DTSTART:20200705T093000
DTEND:20200705T103000
ORGANIZER:MAILTO:Pfarrei Galgenen <sekretariat@kg-galgenen.ch>
SUMMARY:Verabschiedung von Vreni Ziltener
END:VEVENT
END:VCALENDAR
