BEGIN:VCALENDAR
VERSION:2.0
PRODID:-//Pfarrei Galgenen//NONSGML kigkonsult.se iCalcreator 2.16.12//
METHOD:PUBLISH
X-MS-OLK-FORCEINSPECTOROPEN:TRUE
BEGIN:VEVENT
UID:20260420T142348CEST-4389Lo0H5T@Pfarrei Galgenen
DTSTAMP:20260420T122348Z
DESCRIPTION:Aus aktuellem Corona-Anlass findet der Tannligarten-Gottesdiens
 t um 09.30 Uhr in der Pfarrkirche statt.\nDas Alphorntrio Stockberg Echo w
 ird die Feier mit Ihren schönen Klängen begleiten.
DTSTART:20200726T093000
DTEND:20200726T103000
ORGANIZER:MAILTO:Pfarrei Galgenen <sekretariat@kg-galgenen.ch>
SUMMARY:Tannligarten-Gottesdienst in der Pfarrkirche
END:VEVENT
END:VCALENDAR
