BEGIN:VCALENDAR
VERSION:2.0
PRODID:-//Pfarrei Galgenen//NONSGML kigkonsult.se iCalcreator 2.16.12//
METHOD:PUBLISH
X-MS-OLK-FORCEINSPECTOROPEN:TRUE
BEGIN:VEVENT
UID:20260420T142227CEST-85783UgaPr@Pfarrei Galgenen
DTSTAMP:20260420T122227Z
DESCRIPTION:Bei gutem Wetter halten wir in der Maria Immerhilf Kapelle\nein
 e Andacht. \nAllfälliges Verschiebedatum wäre der 23.08.2020.
DTSTART:20200815T193000
DTEND:20200815T200000
ORGANIZER:MAILTO:Pfarrei Galgenen <sekretariat@kg-galgenen.ch>
SUMMARY:Andacht in der Maria Immerhilf Kapelle
END:VEVENT
END:VCALENDAR
