BEGIN:VCALENDAR
VERSION:2.0
PRODID:-//Pfarrei Galgenen//NONSGML kigkonsult.se iCalcreator 2.16.12//
METHOD:PUBLISH
X-MS-OLK-FORCEINSPECTOROPEN:TRUE
BEGIN:VEVENT
UID:20260420T142338CEST-9684ArK6xu@Pfarrei Galgenen
DTSTAMP:20260420T122338Z
DESCRIPTION:Den Grabenegg-Berggottesdienst halten wir beim Grabeneggkreuz.
 \nBei schlechtem Wetter:\nGottesdienst im gleich Rahmen um 09.30 Uhr in de
 r Pfarrkirche. Das Glockenzeichen\num 08.00 Uhr bedeutet die Durchführung 
 beim Kreuz.\nEbenfalls Auskunft gibt:\nAdelbert Hüppin (N: 079 902 90 37) 
 und unter Tel. 1600: Ansage Kt. Schwyz - Rubrik Kirchen.\nMusikalisch wird
  die Feier vom Ländlertrio\nHublibuebe aus Galgenen und dem Alphorntrio Mä
 rchlergruess aus der March\nbegleitet.
DTSTART:20200816T103000
DTEND:20200816T113000
ORGANIZER:MAILTO:Pfarrei Galgenen <sekretariat@kg-galgenen.ch>
SUMMARY:Grabenegg Berggottesdienst
END:VEVENT
END:VCALENDAR
