BEGIN:VCALENDAR
VERSION:2.0
PRODID:-//Pfarrei Galgenen//NONSGML kigkonsult.se iCalcreator 2.16.12//
METHOD:PUBLISH
X-MS-OLK-FORCEINSPECTOROPEN:TRUE
BEGIN:VEVENT
UID:20260420T142203CEST-6103xblOJs@Pfarrei Galgenen
DTSTAMP:20260420T122203Z
DESCRIPTION:An diesem Datum halten wir in der Maria Immerhilf Kapelle nur e
 ine Andacht\, falls diese\nam 15.08.2020 wetterbedingt verschoben werden m
 usste.
DTSTART:20200823T193000
DTEND:20200823T200000
ORGANIZER:MAILTO:Pfarrei Galgenen <sekretariat@kg-galgenen.ch>
SUMMARY:Ersatzdatum für die Andacht in der Maria Immerhilf Kapelle
END:VEVENT
END:VCALENDAR
