BEGIN:VCALENDAR
VERSION:2.0
PRODID:-//Pfarrei Galgenen//NONSGML kigkonsult.se iCalcreator 2.16.12//
METHOD:PUBLISH
X-MS-OLK-FORCEINSPECTOROPEN:TRUE
BEGIN:VEVENT
UID:20260420T142225CEST-8510cAr2AJ@Pfarrei Galgenen
DTSTAMP:20260420T122225Z
DESCRIPTION:FIRMUNG mit dem ehem. Generalvikar Martin Kopp\n\nDer Apero für
  alle Kirchenbesucher findet vor dem Festgottesdienst statt. Dieser wird m
 usikalisch vom\n\nMusikverein Galgenen umrahmt.\n\nLeider sind alle Plätze
  für die Firmanden und ihre Angehörigen reserviert!\n
DTSTART:20200905T170000
DTEND:20200905T180000
ORGANIZER:MAILTO:Pfarrei Galgenen <sekretariat@kg-galgenen.ch>
SUMMARY:Firmung 2020 in Galgenen
END:VEVENT
END:VCALENDAR
