BEGIN:VCALENDAR
VERSION:2.0
PRODID:-//Pfarrei Galgenen//NONSGML kigkonsult.se iCalcreator 2.16.12//
METHOD:PUBLISH
X-MS-OLK-FORCEINSPECTOROPEN:TRUE
BEGIN:VEVENT
UID:20260420T142155CEST-5444sIfvMe@Pfarrei Galgenen
DTSTAMP:20260420T122155Z
DESCRIPTION:Die Eucharistiefeier an diesem Samstag entfällt wegen der Firmu
 ng!
DTSTART:20200905T093000
DTEND:20200905T103000
ORGANIZER:MAILTO:Pfarrei Galgenen <sekretariat@kg-galgenen.ch>
SUMMARY:Eucharistiefeier entfällt !
END:VEVENT
END:VCALENDAR
